


BEGIN:VCALENDAR
VERSION:2.0
PRODID:-//Plants of Texas - ECPv6.15.20//NONSGML v1.0//EN
CALSCALE:GREGORIAN
METHOD:PUBLISH
X-ORIGINAL-URL:https://plantsoftexas.com
X-WR-CALDESC:Events for Plants of Texas
REFRESH-INTERVAL;VALUE=DURATION:PT1H
X-Robots-Tag:noindex
X-PUBLISHED-TTL:PT1H
BEGIN:VTIMEZONE
TZID:America/Matamoros
BEGIN:DAYLIGHT
TZOFFSETFROM:-0600
TZOFFSETTO:-0500
TZNAME:CDT
DTSTART:20230312T080000
END:DAYLIGHT
BEGIN:STANDARD
TZOFFSETFROM:-0500
TZOFFSETTO:-0600
TZNAME:CST
DTSTART:20231105T070000
END:STANDARD
BEGIN:DAYLIGHT
TZOFFSETFROM:-0600
TZOFFSETTO:-0500
TZNAME:CDT
DTSTART:20240310T080000
END:DAYLIGHT
BEGIN:STANDARD
TZOFFSETFROM:-0500
TZOFFSETTO:-0600
TZNAME:CST
DTSTART:20241103T070000
END:STANDARD
BEGIN:DAYLIGHT
TZOFFSETFROM:-0600
TZOFFSETTO:-0500
TZNAME:CDT
DTSTART:20250309T080000
END:DAYLIGHT
BEGIN:STANDARD
TZOFFSETFROM:-0500
TZOFFSETTO:-0600
TZNAME:CST
DTSTART:20251102T070000
END:STANDARD
END:VTIMEZONE
BEGIN:VEVENT
DTSTART;TZID=America/Matamoros:20240203T090000
DTEND;TZID=America/Matamoros:20240203T110000
DTSTAMP:20260423T070215
CREATED:20240120T161755Z
LAST-MODIFIED:20240120T161755Z
UID:47414-1706950800-1706958000@plantsoftexas.com
SUMMARY:Beginner Beekeeping
DESCRIPTION:Join Plants of Texas for an informative class on beginner beekeeping. \nThis class will cover beginner beekeeper basic knowledge and much more. This class will cover PPE and safety\, the hive components and tools needed\, what’s inside a hive\, development times and stages of honeybees\, a getting started check list\, and much more. You will also have the opportunity to purchase a nuc and beebox at this class (to be picked up at a later date). Plants of Texas is excited to make all your bee dreams come true in one stop.\nThis class will be the bee’s knees! The class fee is $30. This class will be held at the NEW Plants of Texas location in Flint. This class will NOT be held at the tent. \nThe class will take place in the smaller building (receiving dock) behind the main/large building you see from the road. Please park in the front of the main building and follow the sidewalk around to the back. You will see a smaller metal building in the back of the property. Head on in and take a seat! \nYou can click the button titled “Reserve Now” to purchase your ticket to this event. No tickets will be mailed out. You simply show up to the event. Tickets must be purchased in advance to reserve your spot. Spots are limited.
URL:https://plantsoftexas.com/event/beginner-beekeeping/
LOCATION:Plants of Texas\, 17470 FM 2493\, Flint\, TX\, 75762\, United States
ATTACH;FMTTYPE=image/png:https://plantsoftexas.com/wp-content/uploads/2020/12/learn-grow.png
ORGANIZER;CN="Plants of Texas":MAILTO:info@plantsoftexas.com
END:VEVENT
BEGIN:VEVENT
DTSTART;TZID=America/Matamoros:20240210T090000
DTEND;TZID=America/Matamoros:20240210T110000
DTSTAMP:20260423T070215
CREATED:20240120T163451Z
LAST-MODIFIED:20240120T163451Z
UID:47415-1707555600-1707562800@plantsoftexas.com
SUMMARY:Advanced Beekeeping Class
DESCRIPTION:Welcome to Advanced Intermediate Beekeeping! We will continue to build upon the topics we learned in the Beginner Beekeeping class. One step closer to you feeling confident in owning your own hive! \nThis class will cover hive inspections\, recognizing brood patterns\, harvesting honey\, bee behavior\, diseases\, how to grow your apiary\, and pest control. You will also have the opportunity to purchase bees\, hives\, and beekeeping accessories (suits\, gloves\, smokers\, etc.). Plants of Texas is excited to make all your bee dreams come true in one stop. \nThis class will be the bee’s knees! The class fee is $30. This class will be held at the NEW Plants of Texas location in Flint. This class will NOT be held at the tent. \nThe class will take place in the smaller building (receiving dock) behind the main/large building you see from the road. Please park in the front of the main building and follow the sidewalk around to the back. You will see a smaller metal building in the back of the property. Head on in and take a seat! \nYou can click the button titled “Reserve Now” to purchase your ticket to this event. No tickets will be mailed out. You simply show up to the event. Tickets must be purchased in advance to reserve your spot. Spots are limited.
URL:https://plantsoftexas.com/event/beginner-beekeeping-2/
LOCATION:Plants of Texas\, 17470 FM 2493\, Flint\, TX\, 75762\, United States
ATTACH;FMTTYPE=image/png:https://plantsoftexas.com/wp-content/uploads/2020/12/join-us.png
ORGANIZER;CN="Plants of Texas":MAILTO:info@plantsoftexas.com
END:VEVENT
BEGIN:VEVENT
DTSTART;TZID=America/Matamoros:20240217T090000
DTEND;TZID=America/Matamoros:20240217T110000
DTSTAMP:20260423T070215
CREATED:20240120T174144Z
LAST-MODIFIED:20240121T160349Z
UID:47420-1708160400-1708167600@plantsoftexas.com
SUMMARY:All About Fruit Trees
DESCRIPTION:We are quickly approaching fruit tree season. This class will cover proper pruning techniques\, what to expect with your fruit tree or small fruit plant\, as well as some disease and insect prevention to ensure your fruit trees are plentiful this season. \nDoug Arnold will be teaching this class. \nThe class fee is $30. This class will be held at the NEW Plants of Texas location in Flint. This class will NOT be held at the tent. \nThe class will take place in the smaller building (receiving dock) behind the main/large building you see from the road. Please park in the front of the main building and follow the sidewalk around to the back. You will see a smaller metal building in the back of the property. Head on in and take a seat! \nYou can click the button titled “Reserve Now” to purchase your ticket to this event. No tickets will be mailed out. You simply show up to the event. Tickets must be purchased in advance to reserve your spot. Spots are limited.
URL:https://plantsoftexas.com/event/all-about-fruit-trees/
LOCATION:Plants of Texas\, 17470 FM 2493\, Flint\, TX\, 75762\, United States
ATTACH;FMTTYPE=image/png:https://plantsoftexas.com/wp-content/uploads/2020/12/event.png
ORGANIZER;CN="Plants of Texas":MAILTO:info@plantsoftexas.com
END:VEVENT
BEGIN:VEVENT
DTSTART;TZID=America/Matamoros:20240217T130000
DTEND;TZID=America/Matamoros:20240217T150000
DTSTAMP:20260423T070215
CREATED:20240120T170316Z
LAST-MODIFIED:20240120T170316Z
UID:47417-1708174800-1708182000@plantsoftexas.com
SUMMARY:Beginner Beekeeping Class
DESCRIPTION:Join Plants of Texas for an informative class on beginner beekeeping. \nThis class will cover beginner beekeeper basic knowledge and much more. This class will cover PPE and safety\, the hive components and tools needed\, what’s inside a hive\, development times and stages of honeybees\, a getting started check list\, and much more. You will also have the opportunity to purchase a nuc and beebox at this class (to be picked up at a later date). Plants of Texas is excited to make all your bee dreams come true in one stop.\nThis class will be the bee’s knees! The class fee is $30. This class will be held at the NEW Plants of Texas location in Flint. This class will NOT be held at the tent. \nThe class will take place in the smaller building (receiving dock) behind the main/large building you see from the road. Please park in the front of the main building and follow the sidewalk around to the back. You will see a smaller metal building in the back of the property. Head on in and take a seat! \nYou can click the button titled “Reserve Now” to purchase your ticket to this event. No tickets will be mailed out. You simply show up to the event. Tickets must be purchased in advance to reserve your spot. Spots are limited.
URL:https://plantsoftexas.com/event/beginner-beekeeping-class-10/
LOCATION:Plants of Texas\, 17470 FM 2493\, Flint\, TX\, 75762\, United States
ATTACH;FMTTYPE=image/png:https://plantsoftexas.com/wp-content/uploads/2020/12/learn-grow.png
ORGANIZER;CN="Plants of Texas":MAILTO:info@plantsoftexas.com
END:VEVENT
BEGIN:VEVENT
DTSTART;TZID=America/Matamoros:20240224T090000
DTEND;TZID=America/Matamoros:20240224T110000
DTSTAMP:20260423T070215
CREATED:20240124T160347Z
LAST-MODIFIED:20240124T162139Z
UID:47440-1708765200-1708772400@plantsoftexas.com
SUMMARY:Linocut Dish Towel Workshop
DESCRIPTION:Linocut Dish Towel Workshop- “The Pollinators”\nBring a friend and join professional artist and illustrator Kim Wasson Tener as she shares the relaxing and delightful art of linocut. \nAt the end of this two-hour workshop\, you will take home your custom linocut block for continued art making\, as well as your design printed on a gorgeous cotton dish towel. \n\n\n\n\n\n\n\n\n\n\n\n\nPerfect for beginners and more advanced artists. Choose between a friendly honeybee or regal monarch. Precut bees and butterflies available as desired.\n\n2-hour workshop\, 9-11 am. $50 includes personal instruction\, supplies\, linocut blocks\, and custom printed dish towel.\n  \nThe class will take place in the smaller building (receiving dock) behind the main/large building you see from the road. Please park in the front of the main building and follow the sidewalk around to the back. You will see a smaller metal building in the back of the property. Head on in and take a seat! \nYou can click the button titled “Reserve Now” to purchase your ticket to this event. No tickets will be mailed out. You simply show up to the event. Tickets must be purchased in advance to reserve your spot. Spots are limited. \nA little more about your instructor: \nKim Wasson Tener is a professional artist and art instructor who traces her passion for the intersection of art and history to her father. Convinced his young daughter couldn’t miss a rare opportunity to participate in an authentic 18th century archeological dig\, Kim’s father\, a renowned historian\, drove his family across the U.S. in their aging Chevy Caprice station wagon dubbed “Puff the Tragic Wagon” by an 8-year-old Kim. The effort was worth the 2\,000-mile drive as the magic of the dig captivated Kim. From the moment she carefully lifted a small piece of cracked blue and white pottery from the earth\, the aspiring young artist knew that uncovering secrets from the past would become a big part of her artistic future. \n\n \nKim’s future wasn’t just filled with digs and history books\, however. Watercolors\, pencils\, ink\, and anything to do with art called her name. Into the wee hours of the morning\, she could be found drawing\, painting\, studying\, creating. \n \nToday you will find Kim in her small\, east Texas hometown sharing the joys of art and history with her community through her business\, Bookmark Arts. As an experienced teacher and an illustrator of multiple children’s books\, Kim is now sharing her love for art and history through a wide variety of hands-on art history workshops.
URL:https://plantsoftexas.com/event/all-about-fruit-trees-2/
LOCATION:Plants of Texas\, 17470 FM 2493\, Flint\, TX\, 75762\, United States
ATTACH;FMTTYPE=image/png:https://plantsoftexas.com/wp-content/uploads/2020/12/event.png
ORGANIZER;CN="Plants of Texas":MAILTO:info@plantsoftexas.com
END:VEVENT
BEGIN:VEVENT
DTSTART;TZID=America/Matamoros:20240224T130000
DTEND;TZID=America/Matamoros:20240224T150000
DTSTAMP:20260423T070215
CREATED:20240120T171948Z
LAST-MODIFIED:20240120T171948Z
UID:47419-1708779600-1708786800@plantsoftexas.com
SUMMARY:Advanced Beekeeping Class
DESCRIPTION:Welcome to Advanced Intermediate Beekeeping! We will continue to build upon the topics we learned in the Beginner Beekeeping class. One step closer to you feeling confident in owning your own hive! \nThis class will cover hive inspections\, recognizing brood patterns\, harvesting honey\, bee behavior\, diseases\, how to grow your apiary\, and pest control. You will also have the opportunity to purchase bees\, hives\, and beekeeping accessories (suits\, gloves\, smokers\, etc.). Plants of Texas is excited to make all your bee dreams come true in one stop. \nThis class will be the bee’s knees! The class fee is $30. This class will be held at the NEW Plants of Texas location in Flint. This class will NOT be held at the tent. \nThe class will take place in the smaller building (receiving dock) behind the main/large building you see from the road. Please park in the front of the main building and follow the sidewalk around to the back. You will see a smaller metal building in the back of the property. Head on in and take a seat! \nYou can click the button titled “Reserve Now” to purchase your ticket to this event. No tickets will be mailed out. You simply show up to the event. Tickets must be purchased in advance to reserve your spot. Spots are limited.
URL:https://plantsoftexas.com/event/beginner-beekeeping-class-10-2/
LOCATION:Plants of Texas\, 17470 FM 2493\, Flint\, TX\, 75762\, United States
ATTACH;FMTTYPE=image/png:https://plantsoftexas.com/wp-content/uploads/2020/12/join-us.png
ORGANIZER;CN="Plants of Texas":MAILTO:info@plantsoftexas.com
END:VEVENT
END:VCALENDAR