


BEGIN:VCALENDAR
VERSION:2.0
PRODID:-//Plants of Texas - ECPv6.15.20//NONSGML v1.0//EN
CALSCALE:GREGORIAN
METHOD:PUBLISH
X-WR-CALNAME:Plants of Texas
X-ORIGINAL-URL:https://plantsoftexas.com
X-WR-CALDESC:Events for Plants of Texas
REFRESH-INTERVAL;VALUE=DURATION:PT1H
X-Robots-Tag:noindex
X-PUBLISHED-TTL:PT1H
BEGIN:VTIMEZONE
TZID:America/Matamoros
BEGIN:DAYLIGHT
TZOFFSETFROM:-0600
TZOFFSETTO:-0500
TZNAME:CDT
DTSTART:20230312T080000
END:DAYLIGHT
BEGIN:STANDARD
TZOFFSETFROM:-0500
TZOFFSETTO:-0600
TZNAME:CST
DTSTART:20231105T070000
END:STANDARD
BEGIN:DAYLIGHT
TZOFFSETFROM:-0600
TZOFFSETTO:-0500
TZNAME:CDT
DTSTART:20240310T080000
END:DAYLIGHT
BEGIN:STANDARD
TZOFFSETFROM:-0500
TZOFFSETTO:-0600
TZNAME:CST
DTSTART:20241103T070000
END:STANDARD
BEGIN:DAYLIGHT
TZOFFSETFROM:-0600
TZOFFSETTO:-0500
TZNAME:CDT
DTSTART:20250309T080000
END:DAYLIGHT
BEGIN:STANDARD
TZOFFSETFROM:-0500
TZOFFSETTO:-0600
TZNAME:CST
DTSTART:20251102T070000
END:STANDARD
END:VTIMEZONE
BEGIN:VEVENT
DTSTART;TZID=America/Matamoros:20240504T090000
DTEND;TZID=America/Matamoros:20240504T110000
DTSTAMP:20260421T065024
CREATED:20240410T145006Z
LAST-MODIFIED:20240410T145006Z
UID:47487-1714813200-1714820400@plantsoftexas.com
SUMMARY:Copper Embossed Cedar Birdhouse Workshop
DESCRIPTION:Bring a friend and join professional artist and illustrator Kim Wasson Tener of Bookmark Arts as she shares the relaxing art of copper embossing. With the help of your instructor and gorgeous floral patterns to follow\, you will craft a custom roof for your locally made birdhouse.\n\n******************************\nMay 4th\, 2024\n\n2-hour workshop\, 9-11am\n\n$75 includes personal instruction\, supplies\, and optional material & instructions for adding copper patina at home (simple\, but takes 24 hours to dry).
URL:https://plantsoftexas.com/event/copper-embossed-cedar-birdhouse-workshop/
LOCATION:Plants of Texas\, 17470 FM 2493\, Flint\, TX\, 75762\, United States
ATTACH;FMTTYPE=image/png:https://plantsoftexas.com/wp-content/uploads/2020/12/event.png
ORGANIZER;CN="Plants of Texas":MAILTO:info@plantsoftexas.com
END:VEVENT
BEGIN:VEVENT
DTSTART;TZID=America/Matamoros:20240511T080000
DTEND;TZID=America/Matamoros:20240511T090000
DTSTAMP:20260421T065024
CREATED:20240409T161849Z
LAST-MODIFIED:20240508T162912Z
UID:47479-1715414400-1715418000@plantsoftexas.com
SUMMARY:Mother's Day Build Your Own Deco Pot Class
DESCRIPTION:**THIS CLASS IS SOLD OUT**\n\nBuild your own deco pot for yourself or for the special lady in your life. This is a great way to celebrate with your loved ones this Mother’s Day weekend. You will get to pick out your own annuals and perennials to create your own combination decorative pot to take home to enjoy. This is the perfect gift to give as well! The most special part about this class is the time you spend with someone dear\, creating and planting together! Let’s make memories together!\n\nCome ready to use your creative side and get a little dirty in the process!\n\nThe class fee is $50 per person\, and we will be at our Flint location.\n\nYou can click the button titled “Reserve Now” to purchase your ticket to this event. No tickets will be mailed out. You simply show up to the event. Tickets must be purchased in advance to reserve your spot. Spots are limited.
URL:https://plantsoftexas.com/event/mothers-day-build-your-own-deco-pot-class/
LOCATION:Plants of Texas\, 17470 FM 2493\, Flint\, TX\, 75762\, United States
ATTACH;FMTTYPE=image/png:https://plantsoftexas.com/wp-content/uploads/2020/12/join-us.png
ORGANIZER;CN="Plants of Texas":MAILTO:info@plantsoftexas.com
END:VEVENT
BEGIN:VEVENT
DTSTART;TZID=America/Matamoros:20240518T090000
DTEND;TZID=America/Matamoros:20240518T100000
DTSTAMP:20260421T065024
CREATED:20240409T163515Z
LAST-MODIFIED:20240409T164137Z
UID:47484-1716022800-1716026400@plantsoftexas.com
SUMMARY:May 18th- How to Keep Your Landscape Alive during the Summer months
DESCRIPTION:Join Plants of Texas plant experts for a FREE class to learn more about how to keep your plants healthy and alive during the hot summer months and beyond. \nDid you invest a lot of money into landscaping this season? Do you notoriously have a difficult time keeping trees\, shrubs\, flowers alive during times of dearth? Come to this FREE class to get tips and tricks so that you can handle the hot temperatures looking at us over the next several months. \nWe want your garden to not just stay alive\, but to flourish regardless of Mother Nature. \nPlease reserve your ticket to this class so we know you are coming by clicking on the Reserve Now button. This will hold your spot! Can’t wait to see you!
URL:https://plantsoftexas.com/event/may-18th-how-to-keep-your-landscape-alive-during-the-summer-months/
LOCATION:Plants of Texas\, 17470 FM 2493\, Flint\, TX\, 75762\, United States
ATTACH;FMTTYPE=image/png:https://plantsoftexas.com/wp-content/uploads/2020/12/learn-grow.png
ORGANIZER;CN="Plants of Texas":MAILTO:info@plantsoftexas.com
END:VEVENT
END:VCALENDAR